Workbook
Name Allfruits: OFFSET([1]Test!$A$2,0,0,COUNTA([1]Test!$A$2:$A$100),1)
Name Baseline_year: Application!$F$21
Name FilingYear: Application!$H$4
Name PerfStandard: Application!$C$21
Name PlanYear1: Application!$B$21

Sheet Instructions
B1: Instructions for Completing the Application for a Certificate of Exemption - Electric
B3: As prescribed in Section 11 of the Arkansas Public Service Commission's ("APSC") Rules for Conservation and Energy Efficiency ("EE") Programs, this Application shall be used by eligible Non-Residential customers of an electric public utility that are seeking a Certificate of Exemption to "opt-out" of participating in utility-provided EE programs and to participate instead in a "Self-Directed" EE Option ("SD-Option") within the duration of the utility's EE plans (2024-2027). Any measures installed as a result of a utility-sponsored program, and the energy savings associated therewith, should be excluded from this Application.
B5: Important Dates:
B6: - This application should be filed with the Secretary of the APSC by September 15. - Staff's review of this application will be completed by November 15. - Commission decision on approval of this application will be rendered by December 15, unless such date is waived by the customer. - Certificates of Exemption shall be effective January 1. - Exemption from Energy Efficiency Cost Recovery (EECR) riders will begin with the January Billing Cycle.
B8: Eligibility Requirements:
B9: The customer must have a peak demand of at least 1 MW at a single location or at least 200 kW at multiple sites, within a single utility territory, that aggregate to 1 MW. All peaks are maximum peaks for the most recent twelve months prior to this application. A separate form must be completed for each electric public utility for which the customer seeks to qualify for the Self Direct Option.
B11: Information Requirements:
B12: At a minimum, this application must include the following information:
B13: (a) the estimate of the expected life of the measure(s) or investment(s); (b) the estimate of expected EE savings or evidence of the actual EE savings realized or to be realized, which can be linked to a specific measure(s) or investment(s) which were not the result of utility-sponsored programs, stated in kilowatts (kW) or kilowatt hours (kWh); (c) the explanation of how the estimate of expected EE savings or actual EE savings realized were calculated, including supporting workpapers; (d) the name, title, company and contact information for the person responsible for calculating the expected EE savings; (e) the historical annual usage and peak load information necessary to verify eligibility pursuant to subsection K or L of Section 11 of the C&EE Program Rules, and a list of account numbers for all qualifying facilities; (f) the estimate of expected EE savings or evidence of the actual EE savings realized, which can be linked to a specific measure(s) or investment(s), may include allowances for any reasonably known and measurable changes in operations, changes in output, or production level changes at the qualifying Customer location(s); (g) if the Customer is alleging that it has exhausted its opportunity to participate in or that is unable to realize benefits through participation in its utility’s EE programs, provide the explanation of how the Customer has exhausted its opportunity to conduct further meaningful cost-effective EE programs or how the Customer is unable to realize benefits through participation in its utility’s EE programs including a description of any measures implemented or investments made by the Customer that support that conclusion; and (h) the description of the steps the Customer has taken or will take to measure and verify the achievement of the estimated EE savings supporting the request for a Certificate.
B15: NOTE: The Customer may provide additional information to support its application as needed.
B17: Steps:
B18: Use this Excel file to prepare your Application.
B19: The "Application" tab will be filed as public information. All other tabs will be protected by an Interim Protective Order that will prevent its disclosure to the public.
A20: 1 | B20: Complete "Application" tab (Public Information)
A21: 2 | B21: Complete the "Future Plan Outline" tab (Protected Information)
A22: 3 | B22: Complete "Past Implementations" tab, if applicable (Protected Information)
A23: 4 | B23: Complete "Activity Adjustments" tab, if applicable (Protected Information)
A24: 5 | B24: Complete "Site Detail" tab (Protected Information)
A25: 6 | B25: The Company Summary Tab will automatically populate (Protected Information)
A26: 7 | B26: Complete the Affidavit In Support of an Application for a Certificate of Exemption (Public Information)
B27: The Excel file is designed to prompt the Customer to provide the required information listed in the Information Requirements section above.
B29: Printing : To coordinate page numbering, use the following print options; >File, >print, > entire work book
B31: References:
B32: Self Direct Option rules can be found in Docket No. 10-101-R, Order No. 10.
C33: http://www.apscservices.info/pdf/10/10-101-r_60_1.pdf
B34: Pages 64 to 67 of the order includes Section 11: Opt Out / Self Direct Option
C35: http://www.apscservices.info/Rules/energy_conservation_rules_06-004-R.pdf
B36: Order establishing EE targets and baseline sales year (Check Docket for updates in recent orders):
C37: https://apps.apsc.arkansas.gov/pdf/13/13-002-U_413_1.pdf
B38: Order setting PY 2027 bridge year:
C39: https://apps.apsc.arkansas.gov/pdf/13/13-002-U_466_1.pdf
B41: Notes:
B42: -New sites for which you do not have a full year's energy usage: Provide reasonable estimates of annual energy usage and peak demand. Suggestions: a) use MWh/square foot of a typical facility of your type x actual square footage then make adjustments for differences. b) If procuring an existing site, ask the prior owner for usage information. c) If you have a few months of occupied electric usage extrapolate it out for the entire year. Amend your plan when actual data becomes available.
B43: -Newly constructed sites which are added after approval of the Certificate that meet the same criteria as sites included in the approved application forms will be exempted and an amended application form forwarded to the APSC General Staff.
B44: -Applications for a Certificate based on the exhaustion of EE opportunities should address the measures implemented in the last 10 years, the other measures considered and the criteria for their acceptance or rejection (e.g., cost/benefit analyses, discounted cash flows).
B46: Questions ???:
B47: If you have questions, please email APSC.CARD.Section@arkansas.gov
B48: Or call Jill J. Bishop @ (501) 682-5720

Sheet Application
B1: Application for a Certificate of Exemption - Electric
B2: Please file completed workbook by September 15 to be considered for a Certificate of Exemption that would become effective on January 1 of the following year.
B4: Date of Application: | G4: Filing Year | H4: 2026
B7: Qualifications: (Select One) | E7: 1. Single Metered Location > 1 MW
B10: Type of Exemption: (Select One) | E10: 1. Has implemented invested or will implement or invest in EE measures.
B12: Electric Public Utility:
B13: Legal Name of business:
B14: Street Address of Applicant:
B15: Business phone number: | H15: Fax number:
B18: Program Year Summary Table
B19: (Minimum performance standard basis is the Baseline Year)
B20: Plan Year | C20: Minimum performance standard (%) | D20: Minimum cumulative performance standard (%) | E20: Does the Plan meet or exceed the minimum performance standard? (Select "Yes" or "No") | F20: BaselineYear
B21: 2024 | C21: 0.012 | D21: 0.012 | E21: Yes | F21: 2022
B22: 2025 | C22: =C21 -> 0.012 | D22: =D21+C22 -> 0.024 | E22: Yes | F22: 2022
B23: 2026 | C23: =C21 -> 0.012 | D23: =D22+C23 -> 0.036 | E23: Yes | F23: 2022
B24: 2027 | C24: =C21 -> 0.012 | D24: =D23+C24 -> 0.048 | E24: Yes | F24: 2022
B28: Affidavit in Support of a Application for a Certificate of Exemption
B30: Is the Affidavit attached to this Application? | F30: Drop Down Box: Select
B33: Affiant Name:
B35: Title:
B37: e-mail:
B39: Phone: | E39: fax:
B41: Additional Customer Contact (optional):
B43: Name:
B45: Title:
B47: e-mail:
B49: Phone: | E49: fax:

Sheet Company Summary
B1: PROTECTED INFORMATION
B2: Company Summary
B4: 1. Plan Year energy savings basis is calculated using the Baseline energy consumption at each site.
B6: =Baseline_year -> 2022 | C6: Baseline Year of energy consumption for Savings Plan.
B8: Electric Summary Table
B9: (This table will auto update when you enter your values on the "Site Detail" tab )
B10: Plan Year | C10: Minimum performance standard (%) (a) | D10: Minimum cumulative performance standard (%) (b) | E10: Total Base Annual Usage in MWh per site (adjusted for changes in business activity) (c) | F10: Minimum Annual Savings to meet the EE Performance Standard (MWh) ( d) = (a x c) | G10: Annual Energy Savings in MWh no less than (d) (e)
B11: 2024 | C11: =IF([2]Application!E21="Yes",[2]Application!C21,0) -> 0.012 | D11: =C11 -> 0.012 | E11: ='Site Detail'!H20 -> 0 | F11: =C11*E11 -> 0 | G11: ='Site Detail'!J20 -> 0
B12: 2025 | C12: =IF([2]Application!E22="Yes",[2]Application!C22,0) -> 0.012 | D12: =D11+C12 -> 0.024 | E12: ='Site Detail'!H36 -> 0 | F12: =C12*E12 -> 0 | G12: ='Site Detail'!J36 -> 0
B13: 2026 | C13: =IF([2]Application!E22="Yes",[2]Application!C22,0) -> 0.012 | D13: =D12+C13 -> 0.036 | E13: ='Site Detail'!H52 -> 0 | F13: =C13*E13 -> 0 | G13: ='Site Detail'!J52 -> 0
B14: 2027 | C14: =IF([2]Application!E23="Yes",[2]Application!C23,0) -> 0.012 | D14: =D13+C14 -> 0.048 | E14: ='Site Detail'!H68 -> 0 | F14: =C14*E14 -> 0 | G14: ='Site Detail'!J68 -> 0
E15: Cumulative Savings: | F15: =SUM(F11:F14) -> 0 | G15: =SUM(G11:G14) -> 0

Sheet Site Detail
B1: ='[2]Company Summary'!B1 -> PROTECTED INFORMATION
B2: Site Detailed Data
B3: Purpose: | C3: 1. To establish the customer's eligibility by assessing the size of their sites.
C4: 2. To establish the customer's minimum Performance Standard.
B7: Year 1 | C7: ="Electric "&PlanYear1&" Plan Year (Minimum Performance Standard "&TEXT(PerfStandard,"0.00%")&")" -> Electric 2024 Plan Year (Minimum Performance Standard 1.20%)
B8: Site Description (Name, Service Address) | C8: Utility Account No. | D8: Utility Rate Code | E8: Max Monthly Metered Peak Demand over prior 12 Months (MW) (a) | F8: =Baseline_year&" Site Total Annual Metered Electric Usage (MWh) (b)" -> 2022 Site Total Annual Metered Electric Usage (MWh) (b) | G8: Business Activity Adjustments (MWh) (See Activity Adj. Tab) (c) | H8: Total Base Annual Usage (MWh) w/ Bus. Act. Adj. (d) = (b) + (c) | I8: ="Minimum Annual Savings to meet Perf. Standard (MWh) (e) = ("&TEXT(PerfStandard,"0.00%")&" x d)" -> Minimum Annual Savings to meet Perf. Standard (MWh) (e) = (1.20% x d) | J8: Planned (targeted) Annual Energy Savings (MWh), no less than (e) | K8: ="Has the Site received benefits or subsidies from the Utility's EE programs since "&PlanYear1-9&"? If Yes, most recent date of receipt." -> Has the Site received benefits or subsidies from the Utility's EE programs since 2015? If Yes, most recent date of receipt.
H9: =F9+G9 -> 0 | I9: =H9*PerfStandard -> 0
H10: =F10+G10 -> 0 | I10: =H10*PerfStandard -> 0
H11: =F11+G11 -> 0 | I11: =H11*PerfStandard -> 0
H12: =F12+G12 -> 0 | I12: =H12*PerfStandard -> 0
H13: =F13+G13 -> 0 | I13: =H13*PerfStandard -> 0
H14: =F14+G14 -> 0 | I14: =H14*PerfStandard -> 0
H15: =F15+G15 -> 0 | I15: =H15*PerfStandard -> 0
B16: Totals | E16: =SUM(E9:E15) -> 0 | F16: =SUM(F9:F15) -> 0 | G16: =SUM(G9:G15) -> 0 | H16: =SUM(H9:H15) -> 0 | I16: =SUM(I9:I15) -> 0 | J16: =SUM(J9:J15) -> 0
B17: Excess Savings Carry-Forward from Prior Years. See 'Past Implementations' worksheet. | J17: ='Past Implementations'!G46 -> 0
B18: Total Savings - Planned and Eligible Past Implementations. | J18: =J16+J17 -> 0
B19: Excess Carried forward to Next Year (MWh) | J19: =IF(J18>I16,J18-I16,0) -> 0
B20: Adjusted Savings Total | E20: =E16 -> 0 | F20: =F16 -> 0 | G20: =G16 -> 0 | H20: =H16 -> 0 | I20: =I16 -> 0 | J20: =J16 -> 0
B23: Year 2 | C23: ="Electric "&PlanYear1+1&" Plan Year (Minimum Performance Standard "&TEXT(PerfStandard,"0.00%")&")" -> Electric 2025 Plan Year (Minimum Performance Standard 1.20%)
B24: Site Description (Name, Service Address) | C24: Utility Account No. | D24: Utility Rate Code | E24: Max Monthly Metered Peak Demand over prior 12 Months (MW) (a) | F24: =Baseline_year&" Site Total Annual Metered Electric Usage (MWh) (b)" -> 2022 Site Total Annual Metered Electric Usage (MWh) (b) | G24: Business Activity Adjustments (MWh) (See Activity Adj. Tab) (c) | H24: Total Base Annual Usage (MWh) w/ Bus. Act. Adj. (d) = (b) + (c) | I24: ="Minimum Annual Savings to meet Perf. Standard (MWh) (e) = ("&TEXT(PerfStandard,"0.00%")&" x d)" -> Minimum Annual Savings to meet Perf. Standard (MWh) (e) = (1.20% x d) | J24: Planned (targeted) Annual Energy Savings (MWh), no less than (e) | K24: ="Has the Site received benefits or subsidies from the Utility's EE programs since "&PlanYear1-9&"? If Yes, most recent date of receipt." -> Has the Site received benefits or subsidies from the Utility's EE programs since 2015? If Yes, most recent date of receipt.
H25: =F25+G25 -> 0 | I25: =H25*PerfStandard -> 0
H26: =F26+G26 -> 0 | I26: =H26*PerfStandard -> 0
H27: =F27+G27 -> 0 | I27: =H27*PerfStandard -> 0
H28: =F28+G28 -> 0 | I28: =H28*PerfStandard -> 0
H29: =F29+G29 -> 0 | I29: =H29*PerfStandard -> 0
H30: =F30+G30 -> 0 | I30: =H30*PerfStandard -> 0
H31: =F31+G31 -> 0 | I31: =H31*PerfStandard -> 0
B32: Totals | E32: =SUM(E25:E31) -> 0 | F32: =SUM(F25:F31) -> 0 | G32: =SUM(G25:G31) -> 0 | H32: =SUM(H25:H31) -> 0 | I32: =SUM(I25:I31) -> 0 | J32: =SUM(J25:J31) -> 0
B33: Excess Savings Carry-Forward from Prior Years. | J33: =J19 -> 0
B34: Total Savings - Planned and Eligible Past Implementations. | J34: =J32+J33 -> 0
B35: Excess Carried forward to Next Year (MWh) | J35: =IF(J34>I32,J34-I32,0) -> 0
B36: Adjusted Savings Total | E36: =E32 -> 0 | F36: =F32 -> 0 | G36: =G32 -> 0 | H36: =H32 -> 0 | I36: =I32 -> 0 | J36: =J32 -> 0
B39: Year 3 | C39: ="Electric "&PlanYear1+2&" Plan Year (Minimum Performance Standard "&TEXT(PerfStandard,"0.00%")&")" -> Electric 2026 Plan Year (Minimum Performance Standard 1.20%)
B40: Site Description (Name, Service Address) | C40: Utility Account No. | D40: Utility Rate Code | E40: Max Monthly Metered Peak Demand over prior 12 Months (MW) (a) | F40: =Baseline_year&" Site Total Annual Metered Electric Usage (MWh) (b)" -> 2022 Site Total Annual Metered Electric Usage (MWh) (b) | G40: Business Activity Adjustments (MWh) (See Activity Adj. Tab) (c) | H40: Total Base Annual Usage (MWh) w/ Bus. Act. Adj. (d) = (b) + (c) | I40: ="Minimum Annual Savings to meet Perf. Standard (MWh) (e) = ("&TEXT(PerfStandard,"0.00%")&" x d)" -> Minimum Annual Savings to meet Perf. Standard (MWh) (e) = (1.20% x d) | J40: Planned (targeted) Annual Energy Savings (MWh), no less than (e) | K40: ="Has the Site received benefits or subsidies from the Utility's EE programs since "&PlanYear1-9&"? If Yes, most recent date of receipt." -> Has the Site received benefits or subsidies from the Utility's EE programs since 2015? If Yes, most recent date of receipt.
H41: =F41+G41 -> 0 | I41: =H41*PerfStandard -> 0
H42: =F42+G42 -> 0 | I42: =H42*PerfStandard -> 0
H43: =F43+G43 -> 0 | I43: =H43*PerfStandard -> 0
H44: =F44+G44 -> 0 | I44: =H44*PerfStandard -> 0
H45: =F45+G45 -> 0 | I45: =H45*PerfStandard -> 0
H46: =F46+G46 -> 0 | I46: =H46*PerfStandard -> 0
...

Sheet Future Plan Outline
A1: PROTECTED INFORMATION
A2: Future Plan Outline | D2: Customer Name:
A3: Purpose: The plan outline should describe the measures the customer intends to implement to produce incremental energy savings (MWh) for each year of the plan.
A4: Directions: Describe the measure, implementation date, expected life and incremental energy savings (MWh). Additional workpapers should be provided detailing the derivation of the EE savings and a description of the steps taken or planned to verify the achievement of the EE savings. Annual Energy Savings for each site will populate in the "Site Detail" tab column (f), in the "Totals" row for each year of the Plan. A free format is provided for each year and can include text, calculations and tables.
A5: Alternate Method: Provide the plan outline as an attachment. Please reference the attachment below. Include company name, date and sign.
C7: ATTACHMENT No.: | E7: Date:
A9: Year 1
A10: 2024 Plan Outline | E10: Total Planned Annual Energy Savings = | F10: =SUM(F12:F19) -> 0 | G10: MWh
A11: Project Title | B11: Implementation Date | C11: Site | D11: Project Description | E11: Expected Useful Life (Years) | F11: Planned Annual Energy Savings
A20: Insert line above for additional projects
A24: Year 2
A25: 2025 Plan Outline | E25: Total Planned Annual Energy Savings = | F25: =SUM(F27:F34) -> 0 | G25: MWh
A26: Project Title | B26: Implementation Date | C26: Site | D26: Project Description | E26: Expected Useful Life (Years) | F26: Planned Annual Energy Savings
A35: Insert line above for additional projects
A39: Year 3
A40: 2026 Plan Outline | E40: Total Planned Annual Energy Savings = | F40: =SUM(F42:F49) -> 0 | G40: MWh
A41: Project Title | B41: Implementation Date | C41: Site | D41: Project Description | E41: Expected Useful Life (Years) | F41: Planned Annual Energy Savings
A50: Insert line above for additional projects
A54: Year 4
A55: 2027 Plan Outline | E55: Total Planned Annual Energy Savings = | F55: =SUM(F57:F64) -> 0 | G55: MWh
A56: Project Title | B56: Implementation Date | C56: Site | D56: Project Description | E56: Expected Useful Life (Years) | F56: Planned Annual Energy Savings
A65: Insert line above for additional projects

Sheet Past Implementations
B1: PROTECTED INFORMATION
B2: Past Implementations (if applicable) | E2: Customer Name:
B3: Purpose: The past implementations should describe the measures the customer has implemented in the last 10 years that continue to produce incremental energy savings (MWh) for each year of the plan.
B4: Directions: Describe the measure, implementation date, expected life and incremental energy savings (MWh). Additional workpapers should be provided detailing the derivation of the EE savings and a description of the steps taken or planned to verify the achievement of the EE savings. Annual Energy Savings will populate in the "Site Detail" tab column (f), in the "Excess Savings Carried forward from Prior Years. From 'Past Implementations' worksheet." row. A free format is provided for each year and can include text, calculations and tables.
B5: Alternate Method: Provide the plan outline as an attachment. Please reference the attachment below. Include company name, date and sign.
B7: ATTACHMENT No.:
B9: Date:
B11: =FilingYear-9&" - "&FilingYear&" Incremental Energy Savings to be Carried Forward" -> 2017 - 2026 Incremental Energy Savings to be Carried Forward | F11: Total Annual Energy Savings = | G11: =SUM(G14:G29) -> 0 | H11: MWh
B13: Project Title | C13: Implementation Date | D13: Site | E13: Project Description | F13: Expected Useful Life (Years) | G13: Planned Annual Energy Savings
B33: For Existing SD Customers only:
B34: Year No. | C34: Plan Year | D34: Min. Perf. Standard | E34: Min. Cum. Perf. Stand. | G34: Savings applied to previous exemptions
B35: 1 | C35: 2017 | D35: 0.009 | E35: =D35 -> 0.009
B36: 2 | C36: 2018 | D36: 0.009 | E36: =D36+E35 -> 0.018
B37: 3 | C37: 2019 | D37: 0.01 | E37: =D37+E36 -> 0.028
B38: 4 | C38: 2020 | D38: 0.012 | E38: =D38+E37 -> 0.04
B39: 5 | C39: 2021 | D39: 0.012 | E39: =D39+E38 -> 0.052
B40: 6 | C40: 2022 | D40: 0.012 | E40: =D40+E39 -> 0.064
B41: 7 | C41: 2023 | D41: 0.012 | E41: =D41+E40 -> 0.076
B42: 8 | C42: 2024 | D42: 0.012 | E42: =D42+E41 -> 0.088
B43: 9 | C43: 2025 | D43: 0.012 | E43: =D43+E42 -> 0.1
B44: 10 | C44: 2026 | D44: 0.012 | E44: =D44+E43 -> 0.112
F45: Total | G45: =SUM(G35:G44) -> 0
F46: Remainder | G46: =G11-G45 -> 0

Sheet Activity Adjustments
B1: PROTECTED INFORMATION
B2: Business Activity Adjustments (if applicable) | F2: Customer Name:
F3: Utility Name.:
B5: Purpose: To reflect reasonably known and measurable changes in operations, changes in output, or production level changes and quantify their impacts to insure that calculations of energy savings targets and performance are not impacted by unrelated changes in business activity .
B6: Directions:
B7: - Show business activity adjustment increases as (+) and decreases as (-) in (g) below.
B8: - Transfer values (g) to the "Site Detail" tab column (c) for each site
B9: - When the adjustment pertains to all sites, for site description insert the term "All Sites"
B10: - See bottom of this sheet for examples of brief descriptions
B12: Account numbers and/or Meter numbers and Rate Codes can be found on the customer's bill.
C14: =PlanYear1&" Plan Year (Business Activity Adjustments)" -> 2024 Plan Year (Business Activity Adjustments)
B15: Site Description: (Name, Service Address, for each site) | C15: *Account Number | D15: *Rate Code | E15: Business Activity Adjustment (Annual MWh) (g) | F15: Brief description of business activity adjustments:
C23: =PlanYear1+1&" Plan Year (Business Activity Adjustments)" -> 2025 Plan Year (Business Activity Adjustments)
B24: Site Description: (Name, Service Address, for each site) | C24: *Account Number | D24: *Rate Code | E24: Business Activity Adjustment (Annual MWh) (g) | F24: Brief description of business activity adjustments:
C32: =PlanYear1+2&" Plan Year (Business Activity Adjustments)" -> 2026 Plan Year (Business Activity Adjustments)
B33: Site Description: (Name, Service Address, for each site) | C33: *Account Number | D33: *Rate Code | E33: Business Activity Adjustment (Annual MWh) (g) | F33: Brief description of business activity adjustments:
C41: =PlanYear1+3&" Plan Year (Business Activity Adjustments)" -> 2027 Plan Year (Business Activity Adjustments)
B42: Site Description: (Name, Service Address, for each site) | C42: *Account Number | D42: *Rate Code | E42: Business Activity Adjustment (Annual MWh) (g) | F42: Brief description of business activity adjustments:
B51: Examples of a brief description of business activity adjustments
B52: - In 2024, operation/production is expected to decline 20% below baseline level energy consumption (the base year) resulting in an estimated 10% reduction in energy use.
B53: - In 2024, operation/production is expected to increase 10% above baseline level energy consumtpion (the base year) resulting in an estimated 5% increase in energy use.
B54: Baseline Year energy consumption for Savings Plan: | C54: =Baseline_year -> 2022
